BEGIN:VCALENDAR
VERSION:2.0
PRODID:-//eventon.com NONSGML v1.0//EN
CALSCALE:GREGORIAN
METHOD:PUBLISH
BEGIN:VEVENT
UID:69eb713d72a29
DTSTAMP:20260424T133349Z
DTSTART:20260704T151000Z
DTEND:20260704T200000Z
LOCATION:
SUMMARY:Great American 4th of July Car Show
DESCRIPTION:100 Riverside Drive Jeffersonville IN\nhttps://fallscitymustang
 club.com/events/great-american-4th-of-july-car-show/
URL:https://fallscitymustangclub.com/events/great-american-4th-of-july-car-show/
END:VEVENT
END:VCALENDAR