BEGIN:VCALENDAR
VERSION:2.0
PRODID:-//eventon.com NONSGML v1.0//EN
CALSCALE:GREGORIAN
METHOD:PUBLISH
BEGIN:VEVENT
UID:69eb714246972
DTSTAMP:20260424T133354Z
DTSTART:20260525T210000Z
DTEND:20260525T150000Z
LOCATION:
SUMMARY:2026 New Creation Ministries Car Show
DESCRIPTION:On the Historic Downtown Scottsburg IN square Registration $20.
 00 Participant Judging: Top 20 More in: 502-338-1702\nhttps://fallscitymust
 angclub.com/events/2026-new-creation-ministries-car-show/
URL:https://fallscitymustangclub.com/events/2026-new-creation-ministries-car-show/
END:VEVENT
END:VCALENDAR