BEGIN:VCALENDAR
VERSION:2.0
PRODID:-//eventon.com NONSGML v1.0//EN
CALSCALE:GREGORIAN
METHOD:PUBLISH
BEGIN:VEVENT
UID:69eb714126a38
DTSTAMP:20260424T133353Z
DTSTART:20260606T090000Z
DTEND:20260607T170000Z
LOCATION:
SUMMARY:2026 Carlisle Car Show
DESCRIPTION:Huge car show in Carlisle Pennsylvania &nbsp;\nhttps://fallscit
 ymustangclub.com/events/2026-carlisle-car-show/
URL:https://fallscitymustangclub.com/events/2026-carlisle-car-show/
END:VEVENT
END:VCALENDAR