BEGIN:VCALENDAR
VERSION:2.0
PRODID:-//eventon.com NONSGML v1.0//EN
CALSCALE:GREGORIAN
METHOD:PUBLISH
BEGIN:VEVENT
UID:69eb70fa2e3a8
DTSTAMP:20260424T133242Z
DTSTART:20260523T070000Z
DTEND:20260523T180000Z
LOCATION:
SUMMARY:2026 Rumble on the River Car Show
DESCRIPTION:Along the riverfront in Madison IN Enter on Jefferson Street Pr
 e &#8211; reg by May 10 fee is $20.00 DOS fee is $25.00 50 Trophies Dash pl
 aques\,  50/50\,  food trucks\,  raffles and pinstriping\nhttps://fallscity
 mustangclub.com/events/2026-rumble-on-the-river-car-show/
URL:https://fallscitymustangclub.com/events/2026-rumble-on-the-river-car-show/
END:VEVENT
END:VCALENDAR