BEGIN:VCALENDAR
VERSION:2.0
PRODID:-//eventon.com NONSGML v1.0//EN
CALSCALE:GREGORIAN
METHOD:PUBLISH
BEGIN:VEVENT
UID:69eb713b87444
DTSTAMP:20260424T133347Z
DTSTART:20260627T090000Z
DTEND:20260627T150000Z
LOCATION:
SUMMARY:2024 Backyard Classics Car Show
DESCRIPTION:Charlestown IN square 9am-3pm Pre register by June 16 2026 to g
 et free event t-shirt $20.00 registration Five 5&#8242; Best in Show trophi
 es Cash giveaway More info: Lora 502-552-3066\nhttps://fallscitymustangclub
 .com/events/2024-backyard-classics-car-show/
URL:https://fallscitymustangclub.com/events/2024-backyard-classics-car-show/
END:VEVENT
END:VCALENDAR