BEGIN:VCALENDAR
VERSION:2.0
PRODID:-//eventon.com NONSGML v1.0//EN
CALSCALE:GREGORIAN
METHOD:PUBLISH
BEGIN:VEVENT
UID:69eb71420c628
DTSTAMP:20260424T133354Z
DTSTART:20260926T090000Z
DTEND:20260926T150000Z
LOCATION:
SUMMARY:2026 Hoosier Mustang Club Mustang and All Ford Show
DESCRIPTION:9am-3pm Location: Master Power Transmission\,  3300 10th St Col
 umbus IN &nbsp; &nbsp;\nhttps://fallscitymustangclub.com/events/2024-hoosie
 r-mustang-club-mustang-and-all-ford-show/
URL:https://fallscitymustangclub.com/events/2024-hoosier-mustang-club-mustang-and-all-ford-show/
END:VEVENT
END:VCALENDAR