BEGIN:VCALENDAR
VERSION:2.0
PRODID:-//eventon.com NONSGML v1.0//EN
CALSCALE:GREGORIAN
METHOD:PUBLISH
BEGIN:VEVENT
UID:69eb71427c267
DTSTAMP:20260424T133354Z
DTSTART:20260425T100000Z
DTEND:20260425T140000Z
LOCATION:
SUMMARY:2024 Frankfort Pony Car Round Up
DESCRIPTION:Capital City Airport in Frankfort Kentucky &nbsp;\nhttps://fall
 scitymustangclub.com/events/frankfort-pony-car-round-up/
URL:https://fallscitymustangclub.com/events/frankfort-pony-car-round-up/
END:VEVENT
END:VCALENDAR