BEGIN:VCALENDAR
VERSION:2.0
PRODID:-//eventon.com NONSGML v1.0//EN
CALSCALE:GREGORIAN
METHOD:PUBLISH
BEGIN:VEVENT
UID:69eb713b86175
DTSTAMP:20260424T133347Z
DTSTART:20260620T120000Z
DTEND:20260620T200000Z
LOCATION:
SUMMARY:FCMC Annual Mustang and All Ford Show
DESCRIPTION:FCMC will again host their annual Mustang and All Ford Show at 
 Jim O&#8217;Neal Ford in Sellersburg IN\,  516 S\,  Indiana Ave Registratio
 n is 8am &#8211; noon awards at 4pm $20.00 For pre-registered only you will
  be put in a pot for a chance at $100.00 cash drawing. Pre-registration by[
 ..]\nhttps://fallscitymustangclub.com/events/fcmc-annual-mustang-and-all-fo
 rd-show/
URL:https://fallscitymustangclub.com/events/fcmc-annual-mustang-and-all-ford-show/
END:VEVENT
END:VCALENDAR