BEGIN:VCALENDAR
VERSION:2.0
PRODID:-//eventon.com NONSGML v1.0//EN
CALSCALE:GREGORIAN
METHOD:PUBLISH
BEGIN:VEVENT
UID:69eb713d1fe66
DTSTAMP:20260424T133349Z
DTSTART:20260619T133000Z
DTEND:20260619T213000Z
LOCATION:
SUMMARY:FCMC Annual Pony Trail
DESCRIPTION:Meeting at Jim O&#8217;Neal Ford 516 S. Indiana Ave (US 31) Sel
 lersburg IN We will be having a Poker Run along with the Pony Trail cost is
  $5.00 per person to play\nhttps://fallscitymustangclub.com/events/fcmc-ann
 ual-pony-trail/
URL:https://fallscitymustangclub.com/events/fcmc-annual-pony-trail/
END:VEVENT
END:VCALENDAR