BEGIN:VCALENDAR
VERSION:2.0
PRODID:-//eventon.com NONSGML v1.0//EN
CALSCALE:GREGORIAN
METHOD:PUBLISH
BEGIN:VEVENT
UID:69eb713dbd22f
DTSTAMP:20260424T133349Z
DTSTART:20260418T130000Z
DTEND:20260418T190000Z
LOCATION:
SUMMARY:FCMC's Mustang's 62nd Birthday Bash
DESCRIPTION:Jim O&#8217;Neal Ford 516 S. Indiana Ave (Hwy 31) Sellersburg I
 N Free hot dogs\,  cake and drinks Top 25 Trophies (Popular Vote) DJ Door P
 rizes &nbsp;\nhttps://fallscitymustangclub.com/events/fcmcs-mustangs-59th-b
 irthday-bash/
URL:https://fallscitymustangclub.com/events/fcmcs-mustangs-59th-birthday-bash/
END:VEVENT
END:VCALENDAR