BEGIN:VCALENDAR
VERSION:2.0
PRODID:-//eventon.com NONSGML v1.0//EN
CALSCALE:GREGORIAN
METHOD:PUBLISH
BEGIN:VEVENT
UID:69eb70f9231d5
DTSTAMP:20260424T133241Z
DTSTART:20261010T120000Z
DTEND:20261010T210000Z
LOCATION:
SUMMARY:Derby City Mustang Club Ford Fest
DESCRIPTION:Bill Collins Ford\,  4220 Bardstown Rd Louisville KY $20.00 ent
 ry fee Food\,  music\,  door prizes\,  silent auction\,  50/50\,  over 125 
 awards A Pony Trail will be on Oct 9th\nhttps://fallscitymustangclub.com/ev
 ents/derby-city-mustang-club-ford-fest/
URL:https://fallscitymustangclub.com/events/derby-city-mustang-club-ford-fest/
END:VEVENT
END:VCALENDAR