BEGIN:VCALENDAR
VERSION:2.0
PRODID:-//eventon.com NONSGML v1.0//EN
CALSCALE:GREGORIAN
METHOD:PUBLISH
BEGIN:VEVENT
UID:69eb713c3606e
DTSTAMP:20260424T133348Z
DTSTART:20260627T130000Z
DTEND:20260627T210000Z
LOCATION:
SUMMARY:Queen City Mustangers MCA National Car Show
DESCRIPTION:Show Saturday June 27th  Lakota West High School\,  West Chest
 er OH Pony Trail June 26th &nbsp;\nhttps://fallscitymustangclub.com/events/
 queen-city-mustangers-car-show/
URL:https://fallscitymustangclub.com/events/queen-city-mustangers-car-show/
END:VEVENT
END:VCALENDAR