BEGIN:VCALENDAR
VERSION:2.0
PRODID:-//eventon.com NONSGML v1.0//EN
CALSCALE:GREGORIAN
METHOD:PUBLISH
BEGIN:VEVENT
UID:69eb7141e1912
DTSTAMP:20260424T133353Z
DTSTART:20260822T120000Z
DTEND:20260822T225900Z
LOCATION:
SUMMARY:Somernites Cruise In Weekend
DESCRIPTION:Somerset KY\nhttps://fallscitymustangclub.com/events/somernites
 -cruise-in-weekend/
URL:https://fallscitymustangclub.com/events/somernites-cruise-in-weekend/
END:VEVENT
END:VCALENDAR