BEGIN:VCALENDAR
VERSION:2.0
PRODID:-//eventon.com NONSGML v1.0//EN
CALSCALE:GREGORIAN
METHOD:PUBLISH
BEGIN:VEVENT
UID:69eb713c8f4cf
DTSTAMP:20260424T133348Z
DTSTART:20260404T120000Z
DTEND:20260404T200000Z
LOCATION:
SUMMARY:Pirates Classics Car Show
DESCRIPTION:Mason is hosting the car show at the Charlestown High School pa
 rking lot Food will be on site &nbsp;\nhttps://fallscitymustangclub.com/eve
 nts/pirates-classics-car-show/
URL:https://fallscitymustangclub.com/events/pirates-classics-car-show/
END:VEVENT
END:VCALENDAR