BEGIN:VCALENDAR
VERSION:2.0
PRODID:-//eventon.com NONSGML v1.0//EN
CALSCALE:GREGORIAN
METHOD:PUBLISH
BEGIN:VEVENT
UID:69eb713becc53
DTSTAMP:20260424T133347Z
DTSTART:20261021T230000Z
DTEND:20261022T003000Z
LOCATION:
SUMMARY:October FCMC Monthly Meeting
DESCRIPTION:American Legion 1930 McDonald Lane New Albany IN Starts at 7pm\
 nhttps://fallscitymustangclub.com/events/october-2023-fcmc-monthly-meeting/
URL:https://fallscitymustangclub.com/events/october-2023-fcmc-monthly-meeting/
END:VEVENT
END:VCALENDAR