BEGIN:VCALENDAR
VERSION:2.0
PRODID:-//eventon.com NONSGML v1.0//EN
CALSCALE:GREGORIAN
METHOD:PUBLISH
BEGIN:VEVENT
UID:69eb713b8711e
DTSTAMP:20260424T133347Z
DTSTART:20260916T230000Z
DTEND:20260917T003000Z
LOCATION:
SUMMARY:September FCMC Monthly Meeting
DESCRIPTION:American Legion 1930 McDonald Lane New Albany IN Starts at 7pm\
 nhttps://fallscitymustangclub.com/events/september-2023-fcmc-monthly-meetin
 g/
URL:https://fallscitymustangclub.com/events/september-2023-fcmc-monthly-meeting/
END:VEVENT
END:VCALENDAR