BEGIN:VCALENDAR
VERSION:2.0
PRODID:-//eventon.com NONSGML v1.0//EN
CALSCALE:GREGORIAN
METHOD:PUBLISH
BEGIN:VEVENT
UID:69eb70f89ad53
DTSTAMP:20260424T133240Z
DTSTART:20260819T230000Z
DTEND:20260820T003000Z
LOCATION:
SUMMARY:August FCMC Monthly Meeting
DESCRIPTION:American Legion 1930 McDonald Lane New Albany IN Starts at 7pm\
 nhttps://fallscitymustangclub.com/events/august-2023-fcmc-monthly-meeting/
URL:https://fallscitymustangclub.com/events/august-2023-fcmc-monthly-meeting/
END:VEVENT
END:VCALENDAR