BEGIN:VCALENDAR
VERSION:2.0
PRODID:-//eventon.com NONSGML v1.0//EN
CALSCALE:GREGORIAN
METHOD:PUBLISH
BEGIN:VEVENT
UID:69eb714063aea
DTSTAMP:20260424T133352Z
DTSTART:20260715T230000Z
DTEND:20260716T003000Z
LOCATION:
SUMMARY:July FCMC Monthly Meeting
DESCRIPTION:American Legion 1930 McDonald Lane New Albany IN Starts at 7pm\
 nhttps://fallscitymustangclub.com/events/july-2023-fcmc-monthly-meeting/
URL:https://fallscitymustangclub.com/events/july-2023-fcmc-monthly-meeting/
END:VEVENT
END:VCALENDAR