BEGIN:VCALENDAR
VERSION:2.0
PRODID:-//eventon.com NONSGML v1.0//EN
CALSCALE:GREGORIAN
METHOD:PUBLISH
BEGIN:VEVENT
UID:69eb71415e7a0
DTSTAMP:20260424T133353Z
DTSTART:20260617T230000Z
DTEND:20260618T003000Z
LOCATION:
SUMMARY:June FCMC Monthly Meeting
DESCRIPTION:American Legion 1930 McDonald Lane New Albany In starts at 7pm\
 nhttps://fallscitymustangclub.com/events/june-2023-monthly-meeting/
URL:https://fallscitymustangclub.com/events/june-2023-monthly-meeting/
END:VEVENT
END:VCALENDAR