BEGIN:VCALENDAR
VERSION:2.0
PRODID:-//eventon.com NONSGML v1.0//EN
CALSCALE:GREGORIAN
METHOD:PUBLISH
BEGIN:VEVENT
UID:69eb714217aed
DTSTAMP:20260424T133354Z
DTSTART:20260520T230000Z
DTEND:20260521T003000Z
LOCATION:
SUMMARY:May FCMC Monthly Meeting
DESCRIPTION:American Legion 1930 McDonald Lane New Albany IN Starts at 7pm\
 nhttps://fallscitymustangclub.com/events/fcmc-may-monthly-meeting/
URL:https://fallscitymustangclub.com/events/fcmc-may-monthly-meeting/
END:VEVENT
END:VCALENDAR