BEGIN:VCALENDAR
VERSION:2.0
PRODID:-//eventon.com NONSGML v1.0//EN
CALSCALE:GREGORIAN
METHOD:PUBLISH
BEGIN:VEVENT
UID:69eb713cd9228
DTSTAMP:20260424T133348Z
DTSTART:20260919T123000Z
DTEND:20260919T210000Z
LOCATION:Marty and Brenda&#039;s house 7369 Hwy 362
SUMMARY:2025 Annual Breakfast and Poker Run
DESCRIPTION:Marty and Brenda will be hosting again the breakfast and poker 
 run\,  7369 Hwy 362 Nabb IN Breakfast is at 8:30am followed by the poker ru
 n Make sure you have a full tank of gas and an empty stomach For all FCMC m
 embers and their quest.\nhttps://fallscitymustangclub.com/events/2021-annua
 l-breakfast-and-poker-run/
URL:https://fallscitymustangclub.com/events/2021-annual-breakfast-and-poker-run/
END:VEVENT
END:VCALENDAR