BEGIN:VCALENDAR
VERSION:2.0
PRODID:-//Falls City Mustang Club - ECPv6.15.20//NONSGML v1.0//EN
CALSCALE:GREGORIAN
METHOD:PUBLISH
X-WR-CALNAME:Falls City Mustang Club
X-ORIGINAL-URL:https://fallscitymustangclub.com
X-WR-CALDESC:Events for Falls City Mustang Club
REFRESH-INTERVAL;VALUE=DURATION:PT1H
X-Robots-Tag:noindex
X-PUBLISHED-TTL:PT1H
BEGIN:VTIMEZONE
TZID:America/Kentucky/Louisville
BEGIN:DAYLIGHT
TZOFFSETFROM:-0500
TZOFFSETTO:-0400
TZNAME:EDT
DTSTART:20230312T070000
END:DAYLIGHT
BEGIN:STANDARD
TZOFFSETFROM:-0400
TZOFFSETTO:-0500
TZNAME:EST
DTSTART:20231105T060000
END:STANDARD
BEGIN:DAYLIGHT
TZOFFSETFROM:-0500
TZOFFSETTO:-0400
TZNAME:EDT
DTSTART:20240310T070000
END:DAYLIGHT
BEGIN:STANDARD
TZOFFSETFROM:-0400
TZOFFSETTO:-0500
TZNAME:EST
DTSTART:20241103T060000
END:STANDARD
BEGIN:DAYLIGHT
TZOFFSETFROM:-0500
TZOFFSETTO:-0400
TZNAME:EDT
DTSTART:20250309T070000
END:DAYLIGHT
BEGIN:STANDARD
TZOFFSETFROM:-0400
TZOFFSETTO:-0500
TZNAME:EST
DTSTART:20251102T060000
END:STANDARD
BEGIN:DAYLIGHT
TZOFFSETFROM:-0500
TZOFFSETTO:-0400
TZNAME:EDT
DTSTART:20260308T070000
END:DAYLIGHT
BEGIN:STANDARD
TZOFFSETFROM:-0400
TZOFFSETTO:-0500
TZNAME:EST
DTSTART:20261101T060000
END:STANDARD
BEGIN:DAYLIGHT
TZOFFSETFROM:-0500
TZOFFSETTO:-0400
TZNAME:EDT
DTSTART:20270314T070000
END:DAYLIGHT
BEGIN:STANDARD
TZOFFSETFROM:-0400
TZOFFSETTO:-0500
TZNAME:EST
DTSTART:20271107T060000
END:STANDARD
END:VTIMEZONE
BEGIN:VEVENT
DTSTART;TZID=America/Kentucky/Louisville:20261021T190000
DTEND;TZID=America/Kentucky/Louisville:20261021T190000
DTSTAMP:20260425T111942
CREATED:20240623T155657Z
LAST-MODIFIED:20260101T213118Z
UID:5767-1792609200-1792609200@fallscitymustangclub.com
SUMMARY:October FCMC Monthly Meeting
DESCRIPTION:Monthly Meeting \nAmerican Legion 1930 McDonald Lane\, New Albany IN\n7 pm
URL:https://fallscitymustangclub.com/event/october-fcmc-monthly-meeting/
CATEGORIES:Club Meetings
END:VEVENT
BEGIN:VEVENT
DTSTART;TZID=America/Kentucky/Louisville:20261010T080000
DTEND;TZID=America/Kentucky/Louisville:20261010T170000
DTSTAMP:20260425T111942
CREATED:20240725T141558Z
LAST-MODIFIED:20260101T213541Z
UID:5916-1791619200-1791651600@fallscitymustangclub.com
SUMMARY:Derby City Mustang Club Fordfest
DESCRIPTION:Hosted by Derby City Mustang Club \nLocation: Bill Collins Ford\, 4220 Bardstown Rd Louisville KY \nPony Trail: Oct 11th \n$20.00 Registration fee \nThey will be having a Pony Trail on Oct 9th \n 
URL:https://fallscitymustangclub.com/event/2024-derby-city-mustang-club-fordfest/
CATEGORIES:2024 Car Shows
END:VEVENT
BEGIN:VEVENT
DTSTART;TZID=America/Kentucky/Louisville:20260926T090000
DTEND;TZID=America/Kentucky/Louisville:20260926T150000
DTSTAMP:20260425T111942
CREATED:20240213T194752Z
LAST-MODIFIED:20260101T213502Z
UID:5597-1790413200-1790434800@fallscitymustangclub.com
SUMMARY:Hoosier Mustang Club Mustang and All Ford Show
DESCRIPTION:Location: Master Power Transmission\, 3300 10th St Columbus IN \n9am – 3pm \n 
URL:https://fallscitymustangclub.com/event/2024-hoosier-mustang-club-mustang-and-all-ford-show/
CATEGORIES:Car Shows
END:VEVENT
BEGIN:VEVENT
DTSTART;TZID=America/Kentucky/Louisville:20260919T083000
DTEND;TZID=America/Kentucky/Louisville:20260919T170000
DTSTAMP:20260425T111942
CREATED:20240725T143216Z
LAST-MODIFIED:20260101T213816Z
UID:5924-1789806600-1789837200@fallscitymustangclub.com
SUMMARY:FCMC Annual Breakfast and Poker Run
DESCRIPTION:Marty and Brenda will be hosting the annual breakfast and poker run at 7369 Hwy 362 Nabb IN \nFor all FCMC members and their guest. \nBreakfast starts at 8:30am followed by the poker run thru southern Indiana back roads\, we will have a late lunch after the drive. \n 
URL:https://fallscitymustangclub.com/event/fcmc-annual-breakfast-and-poker-run/
CATEGORIES:2024 Car Shows
END:VEVENT
BEGIN:VEVENT
DTSTART;TZID=America/Kentucky/Louisville:20260916T190000
DTEND;TZID=America/Kentucky/Louisville:20260916T203000
DTSTAMP:20260425T111942
CREATED:20240623T155838Z
LAST-MODIFIED:20260101T213706Z
UID:5769-1789585200-1789590600@fallscitymustangclub.com
SUMMARY:September FCMC Monthly Meeting
DESCRIPTION:Monthly Meeting \nAmerican Legion 1930 McDonald Lane\, New Albany IN\n7 pm
URL:https://fallscitymustangclub.com/event/september-fcmc-monthly-meeting/
CATEGORIES:Club Meetings
END:VEVENT
BEGIN:VEVENT
DTSTART;TZID=America/Kentucky/Louisville:20260822T080000
DTEND;TZID=America/Kentucky/Louisville:20260822T170000
DTSTAMP:20260425T111942
CREATED:20240213T193240Z
LAST-MODIFIED:20260101T214446Z
UID:5592-1787385600-1787418000@fallscitymustangclub.com
SUMMARY:Somernites Cruise In
DESCRIPTION:Somerset KY
URL:https://fallscitymustangclub.com/event/2024-somernites-cruise-in/
CATEGORIES:Car Shows
END:VEVENT
BEGIN:VEVENT
DTSTART;TZID=America/Kentucky/Louisville:20260819T190000
DTEND;TZID=America/Kentucky/Louisville:20260819T203000
DTSTAMP:20260425T111942
CREATED:20240623T155952Z
LAST-MODIFIED:20260101T214027Z
UID:5771-1787166000-1787171400@fallscitymustangclub.com
SUMMARY:August FCMC Monthly Meeting
DESCRIPTION:Monthly Meeting \nAmerican Legion 1930 McDonald Lane\, New Albany IN\n7 pm
URL:https://fallscitymustangclub.com/event/august-fcmc-monthly-meeting/
CATEGORIES:Club Meetings
END:VEVENT
BEGIN:VEVENT
DTSTART;TZID=America/Kentucky/Louisville:20260715T190000
DTEND;TZID=America/Kentucky/Louisville:20260715T203000
DTSTAMP:20260425T111942
CREATED:20190417T120244Z
LAST-MODIFIED:20260101T214405Z
UID:117-1784142000-1784147400@fallscitymustangclub.com
SUMMARY:July FCMC Monthly Meeting
DESCRIPTION:Monthly Meeting \nAmerican Legion 1930 McDonald Lane\, New Albany IN\n7 pm
URL:https://fallscitymustangclub.com/event/fcmc-monthly-meeting/
CATEGORIES:Club Meetings
ATTACH;FMTTYPE=image/png:https://fallscitymustangclub.com/wp-content/uploads/2020/03/monthly_meeting.png
END:VEVENT
BEGIN:VEVENT
DTSTART;TZID=America/Kentucky/Louisville:20260627T090000
DTEND;TZID=America/Kentucky/Louisville:20260627T170000
DTSTAMP:20260425T111942
CREATED:20240213T193908Z
LAST-MODIFIED:20260101T214733Z
UID:5594-1782550800-1782579600@fallscitymustangclub.com
SUMMARY:Queen City Mustangers Mustang and All Ford Show
DESCRIPTION:Lakota West High School\, West Chester OH \n  \nPony Trail on June 26th
URL:https://fallscitymustangclub.com/event/2024-queen-city-mustangers-mustang-and-all-ford-show/
CATEGORIES:Car Shows
END:VEVENT
BEGIN:VEVENT
DTSTART;TZID=America/Kentucky/Louisville:20260620T080000
DTEND;TZID=America/Kentucky/Louisville:20260620T160000
DTSTAMP:20260425T111942
CREATED:20200410T133650Z
LAST-MODIFIED:20260101T215341Z
UID:1464-1781942400-1781971200@fallscitymustangclub.com
SUMMARY:FCMC 31st Annual Mustang and All Ford Show
DESCRIPTION:Jim O’Neal Ford 516 S. Indiana Ave Sellersburg  IN \nRegistration: 8 am – noon\, pre-registration $20.00 by June 8th 2026\, must be pre registered  to get a chance in the $100.00 drawing \n40 Class trophies plus 6 Specialty \nMust be Ford Powered and Driven into Show. \nFood available on show site \nALL SHOW PROCEEDS BENEFIT LOCAL CHARITIES\, ALL FOOD PROCEEDS BENEFIT HONOR FLIGHTS \n  \n 
URL:https://fallscitymustangclub.com/event/fcmc-25th-annual-mustang-and-all-ford-show/
ATTACH;FMTTYPE=image/jpeg:https://fallscitymustangclub.com/wp-content/uploads/2019/08/event7.jpg
END:VEVENT
BEGIN:VEVENT
DTSTART;TZID=America/Kentucky/Louisville:20260619T093000
DTEND;TZID=America/Kentucky/Louisville:20260619T160000
DTSTAMP:20260425T111942
CREATED:20200410T133520Z
LAST-MODIFIED:20260101T215441Z
UID:1462-1781861400-1781884800@fallscitymustangclub.com
SUMMARY:FCMC Annual Pony Trail
DESCRIPTION:Pony Trail  Free to all Pre-registered vehicles\, with Poker Run cost is $5.00 per person who’s wanting to play. \nPony Trail: Starts at Jim O’Neal Ford 516  Indiana Ave Sellersburg IN\, meet @9:30 am and leave @10am\nDriving tour thru Southern Indiana stopping at local attractions along the way. \n 
URL:https://fallscitymustangclub.com/event/fcmc-annual-pony-trail/
CATEGORIES:2024 Car Shows
ATTACH;FMTTYPE=image/jpeg:https://fallscitymustangclub.com/wp-content/uploads/2019/08/event6.jpg
END:VEVENT
BEGIN:VEVENT
DTSTART;TZID=America/Kentucky/Louisville:20260617T190000
DTEND;TZID=America/Kentucky/Louisville:20260617T203000
DTSTAMP:20260425T111942
CREATED:20240623T160111Z
LAST-MODIFIED:20260101T215549Z
UID:5773-1781722800-1781728200@fallscitymustangclub.com
SUMMARY:June FCMC Monthly Meeting
DESCRIPTION:Monthly Meeting \nAmerican Legion 1930 McDonald Lane\, New Albany IN\n7 pm
URL:https://fallscitymustangclub.com/event/june-fcmc-monthly-meeting/
CATEGORIES:Club Meetings
END:VEVENT
BEGIN:VEVENT
DTSTART;TZID=America/Kentucky/Louisville:20260606T080000
DTEND;TZID=America/Kentucky/Louisville:20260607T170000
DTSTAMP:20260425T111942
CREATED:20260318T142954Z
LAST-MODIFIED:20260318T142954Z
UID:6992-1780732800-1780851600@fallscitymustangclub.com
SUMMARY:Carlisle Car Show
DESCRIPTION:Huge show in Carlisle Pennsylvania a group will be traveling to this show
URL:https://fallscitymustangclub.com/event/carlisle-car-show/
END:VEVENT
BEGIN:VEVENT
DTSTART;TZID=America/Kentucky/Louisville:20260523T070000
DTEND;TZID=America/Kentucky/Louisville:20260523T180000
DTSTAMP:20260425T111942
CREATED:20260318T143312Z
LAST-MODIFIED:20260318T143312Z
UID:6994-1779519600-1779559200@fallscitymustangclub.com
SUMMARY:Rumble on the River Car Show
DESCRIPTION:On the Madison IN riverfront \nEnter on Jefferson Street \nPre – reg by May 10 fee is $20.00 \nDOS fee $25.00 \n50 Trophies \nDash plaques\, 50/50\, food trucks\, raffles and pinstriping
URL:https://fallscitymustangclub.com/event/rumble-on-the-river-car-show/
CATEGORIES:Car Shows
END:VEVENT
BEGIN:VEVENT
DTSTART;TZID=America/Kentucky/Louisville:20260520T190000
DTEND;TZID=America/Kentucky/Louisville:20260520T203000
DTSTAMP:20260425T111942
CREATED:20240623T160230Z
LAST-MODIFIED:20260101T215640Z
UID:5775-1779303600-1779309000@fallscitymustangclub.com
SUMMARY:May FCMC Monthly Meeting
DESCRIPTION:Monthly Meeting \nAmerican Legion 1930 McDonald Lane\, New Albany IN\n7 pm
URL:https://fallscitymustangclub.com/event/may-fcmc-monthly-meeting/
CATEGORIES:Club Meetings
END:VEVENT
BEGIN:VEVENT
DTSTART;TZID=America/Kentucky/Louisville:20260418T090000
DTEND;TZID=America/Kentucky/Louisville:20260418T150000
DTSTAMP:20260425T111942
CREATED:20200315T162456Z
LAST-MODIFIED:20260101T215900Z
UID:216-1776502800-1776524400@fallscitymustangclub.com
SUMMARY:FCMC Mustang 61st Birthday Bash
DESCRIPTION:Falls City Mustang Club \nCome celebrate the Mustang’s birthday. We will be hosting the bash at Jim O’Neal Ford\, 516 S. Indiana Ave in Sellersburg. \n9am – 3pm \nThis event is for Mustangs and Fords only \nFree registration to all Mustang and Ford. \nFree Hot dogs and drink \nFree cake \nTrophies by popular vote \nDJ playing your favorite oldies\, Door prizes\, 50/50
URL:https://fallscitymustangclub.com/event/fcmc-mustang-birthday-bash-cancelled/
END:VEVENT
BEGIN:VEVENT
DTSTART;TZID=America/Kentucky/Louisville:20260415T190000
DTEND;TZID=America/Kentucky/Louisville:20260415T203000
DTSTAMP:20260425T111942
CREATED:20240623T160336Z
LAST-MODIFIED:20260101T215744Z
UID:5777-1776279600-1776285000@fallscitymustangclub.com
SUMMARY:April FCMC Monthly Meeting
DESCRIPTION:Monthly Meeting \nAmerican Legion 1930 McDonald Lane\, New Albany IN\n7 pm
URL:https://fallscitymustangclub.com/event/april-fcmc-monthly-meeting/
CATEGORIES:Car Shows
END:VEVENT
BEGIN:VEVENT
DTSTART;TZID=America/Kentucky/Louisville:20260404T090000
DTEND;TZID=America/Kentucky/Louisville:20260404T160000
DTSTAMP:20260425T111942
CREATED:20200410T132239Z
LAST-MODIFIED:20260101T220011Z
UID:1449-1775293200-1775318400@fallscitymustangclub.com
SUMMARY:Broughton Family Classics Open Car Show
DESCRIPTION:  \nPirate Classic Car Show. We as the Broughton Family look forward to a successful show and seeing all the beautiful cars. The information will be posted\, please feel free to contact us with any questions. If you are planning to pre-register please contact us so we can provide you the proper information \n  \n 
URL:https://fallscitymustangclub.com/event/broughton-family-classics-open-car-show/
CATEGORIES:Car Shows
ATTACH;FMTTYPE=image/jpeg:https://fallscitymustangclub.com/wp-content/uploads/2020/04/event2.jpg
END:VEVENT
BEGIN:VEVENT
DTSTART;TZID=America/Kentucky/Louisville:20260321T090000
DTEND;TZID=America/Kentucky/Louisville:20260322T000000
DTSTAMP:20260425T111942
CREATED:20260318T142644Z
LAST-MODIFIED:20260318T142644Z
UID:6990-1774083600-1774137600@fallscitymustangclub.com
SUMMARY:KYANA Swap Meet
DESCRIPTION:Kentucky Fairgrounds \nSaturday 3/21 and Sunday 3/22
URL:https://fallscitymustangclub.com/event/kyana-swap-meet/
CATEGORIES:2026 Car Shows
END:VEVENT
BEGIN:VEVENT
DTSTART;TZID=America/Kentucky/Louisville:20260318T190000
DTEND;TZID=America/Kentucky/Louisville:20260318T203000
DTSTAMP:20260425T111942
CREATED:20240623T160448Z
LAST-MODIFIED:20260101T220103Z
UID:5779-1773860400-1773865800@fallscitymustangclub.com
SUMMARY:March FCMC Monthly Meeting
DESCRIPTION:Monthly Meeting \nAmerican Legion 1930 McDonald Lane\, New Albany IN\n7 pm
URL:https://fallscitymustangclub.com/event/march-fcmc-monthly-meeting/
CATEGORIES:Club Meetings
END:VEVENT
BEGIN:VEVENT
DTSTART;TZID=America/Kentucky/Louisville:20260221T150000
DTEND;TZID=America/Kentucky/Louisville:20260221T170000
DTSTAMP:20260425T111942
CREATED:20260101T220946Z
LAST-MODIFIED:20260101T220946Z
UID:6925-1771686000-1771693200@fallscitymustangclub.com
SUMMARY:FCMC February Bowling Outing
DESCRIPTION:Blackiston Mill Lanes Clarksville IN \nStarts at 3pm \nWill be eating after bowling
URL:https://fallscitymustangclub.com/event/fcmc-february-bowling-outing/
CATEGORIES:Outings & Events
END:VEVENT
BEGIN:VEVENT
DTSTART;TZID=America/Kentucky/Louisville:20260218T190000
DTEND;TZID=America/Kentucky/Louisville:20260218T203000
DTSTAMP:20260425T111942
CREATED:20230123T143504Z
LAST-MODIFIED:20260101T220151Z
UID:3985-1771441200-1771446600@fallscitymustangclub.com
SUMMARY:February FCMC Monthly Meeting
DESCRIPTION:American Legion 1930 McDonald Lane New Albany IN \nMeeting starts at 7pm
URL:https://fallscitymustangclub.com/event/february-2023-fcmc-monthly-meeting/
CATEGORIES:Club Meetings
END:VEVENT
BEGIN:VEVENT
DTSTART;TZID=America/Kentucky/Louisville:20260124T150000
DTEND;TZID=America/Kentucky/Louisville:20260124T170000
DTSTAMP:20260425T111942
CREATED:20260101T220737Z
LAST-MODIFIED:20260101T221032Z
UID:6923-1769266800-1769274000@fallscitymustangclub.com
SUMMARY:FCMC January Bowling Outing
DESCRIPTION:Blackiston Mill Lanes Clarksville IN \nStarts at 3pm \nWill be eating after bowling
URL:https://fallscitymustangclub.com/event/fcmc-january-bowling-outing/
CATEGORIES:Outings & Events
END:VEVENT
BEGIN:VEVENT
DTSTART;TZID=America/Kentucky/Louisville:20260121T190000
DTEND;TZID=America/Kentucky/Louisville:20260121T203000
DTSTAMP:20260425T111942
CREATED:20240623T160558Z
LAST-MODIFIED:20260101T220259Z
UID:5781-1769022000-1769027400@fallscitymustangclub.com
SUMMARY:January FCMC Monthly Meeting
DESCRIPTION:Monthly Meeting \nAmerican Legion 1930 McDonald Lane\, New Albany IN\n7 pm
URL:https://fallscitymustangclub.com/event/january-fcmc-monthly-meeting/
CATEGORIES:Club Meetings
END:VEVENT
BEGIN:VEVENT
DTSTART;TZID=America/Kentucky/Louisville:20241130T163000
DTEND;TZID=America/Kentucky/Louisville:20241130T190000
DTSTAMP:20260425T111942
CREATED:20241107T005727Z
LAST-MODIFIED:20241107T005727Z
UID:6184-1732984200-1732993200@fallscitymustangclub.com
SUMMARY:Light up Jeffersonville Parade
DESCRIPTION:Meeting at the Hardee’s in Jeffersonville at 4:30 pm \nCars must be decorated with lights!
URL:https://fallscitymustangclub.com/event/light-up-jeffersonville-parade/
CATEGORIES:2024 Car Shows
END:VEVENT
BEGIN:VEVENT
DTSTART;TZID=America/Kentucky/Louisville:20241102T100000
DTEND;TZID=America/Kentucky/Louisville:20241102T150000
DTSTAMP:20260425T111942
CREATED:20240927T181412Z
LAST-MODIFIED:20240927T181412Z
UID:6090-1730541600-1730559600@fallscitymustangclub.com
SUMMARY:Veterans of Harrison County Car Show
DESCRIPTION:Lincoln Hills Christian Church\, 1130 Dale Ave Corydon IN \nRegistration 10am – noon \nAwards at 1pm \nAll proceeds benefit our local Veterans \nFood\, Music\, Prizes\, Raffles\, Awards
URL:https://fallscitymustangclub.com/event/veterans-of-harrison-county-car-show/
CATEGORIES:2024 Car Shows
END:VEVENT
BEGIN:VEVENT
DTSTART;TZID=America/Kentucky/Louisville:20241026T100000
DTEND;TZID=America/Kentucky/Louisville:20241026T130000
DTSTAMP:20260425T111942
CREATED:20240927T182330Z
LAST-MODIFIED:20240927T182330Z
UID:6095-1729936800-1729947600@fallscitymustangclub.com
SUMMARY:Gateway Classics Trunk or Treat
DESCRIPTION:13576 Blue Lick Rd Memphis IN \nDecorate your car and bring plenty of goodies for the little goblins \nFalls City Mustang Club will be the featured car Club
URL:https://fallscitymustangclub.com/event/gateway-classics-trunk-or-treat/
CATEGORIES:2024 Car Shows
END:VEVENT
BEGIN:VEVENT
DTSTART;TZID=America/Kentucky/Louisville:20241019T090000
DTEND;TZID=America/Kentucky/Louisville:20241019T150000
DTSTAMP:20260425T111942
CREATED:20240927T180950Z
LAST-MODIFIED:20240927T180950Z
UID:6088-1729328400-1729350000@fallscitymustangclub.com
SUMMARY:Kevin & Suzie's Pony Trail
DESCRIPTION:More info to follow
URL:https://fallscitymustangclub.com/event/kevin-suzies-pony-trail/
CATEGORIES:2024 Car Shows
END:VEVENT
BEGIN:VEVENT
DTSTART;TZID=America/Kentucky/Louisville:20240928T080000
DTEND;TZID=America/Kentucky/Louisville:20240928T160000
DTSTAMP:20260425T111942
CREATED:20240927T182745Z
LAST-MODIFIED:20240927T182745Z
UID:6097-1727510400-1727539200@fallscitymustangclub.com
SUMMARY:Swifty Farms Car Show
DESCRIPTION:351 S. US 31 Seymour IN \nRegistration 8am – 11 \nPortion of proceeds go to anchor House \nDash plaques to first 100 registered \nFood trucks\, music\, beer garden\, silent auctions and door prizes \n 
URL:https://fallscitymustangclub.com/event/swifty-farms-car-show/
CATEGORIES:2024 Car Shows
END:VEVENT
BEGIN:VEVENT
DTSTART;TZID=America/Kentucky/Louisville:20240907T080000
DTEND;TZID=America/Kentucky/Louisville:20240907T150000
DTSTAMP:20260425T111942
CREATED:20240725T141940Z
LAST-MODIFIED:20240725T141940Z
UID:5918-1725696000-1725721200@fallscitymustangclub.com
SUMMARY:2024 Hot Rods For Hoops Car Show
DESCRIPTION:8a-3p \nNew Washington Fire Dept\, 23511 Hwy 62 New Washington IN \n$20.00 entry fee
URL:https://fallscitymustangclub.com/event/2024-hot-rods-for-hoops-car-show/
CATEGORIES:2024 Car Shows
END:VEVENT
END:VCALENDAR